BEGIN:VCALENDAR
VERSION:2.0
PRODID:-//Riedhofschule - ECPv6.8.3//NONSGML v1.0//EN
CALSCALE:GREGORIAN
METHOD:PUBLISH
X-ORIGINAL-URL:https://riedhofschule.de
X-WR-CALDESC:Veranstaltungen für Riedhofschule
REFRESH-INTERVAL;VALUE=DURATION:PT1H
X-Robots-Tag:noindex
X-PUBLISHED-TTL:PT1H
BEGIN:VTIMEZONE
TZID:Europe/Berlin
BEGIN:DAYLIGHT
TZOFFSETFROM:+0100
TZOFFSETTO:+0200
TZNAME:CEST
DTSTART:20220327T010000
END:DAYLIGHT
BEGIN:STANDARD
TZOFFSETFROM:+0200
TZOFFSETTO:+0100
TZNAME:CET
DTSTART:20221030T010000
END:STANDARD
END:VTIMEZONE
BEGIN:VEVENT
DTSTART;TZID=Europe/Berlin:20221205T080000
DTEND;TZID=Europe/Berlin:20221205T130000
DTSTAMP:20260421T115033
CREATED:20220926T135736Z
LAST-MODIFIED:20220926T135736Z
UID:2641-1670227200-1670245200@riedhofschule.de
SUMMARY:Nikolaustag- Jahrgang 3&4
DESCRIPTION:
URL:https://riedhofschule.de/termin/nikolaustag-jahrgang-34/
END:VEVENT
BEGIN:VEVENT
DTSTART;TZID=Europe/Berlin:20221205T190000
DTEND;TZID=Europe/Berlin:20221205T200000
DTSTAMP:20260421T115033
CREATED:20220926T135856Z
LAST-MODIFIED:20220926T135856Z
UID:2645-1670266800-1670270400@riedhofschule.de
SUMMARY:Schulkonferenz
DESCRIPTION:
URL:https://riedhofschule.de/termin/schulkonferenz-5/
END:VEVENT
END:VCALENDAR