BEGIN:VCALENDAR
VERSION:2.0
PRODID:-//Riedhofschule - ECPv6.8.3//NONSGML v1.0//EN
CALSCALE:GREGORIAN
METHOD:PUBLISH
X-ORIGINAL-URL:https://riedhofschule.de
X-WR-CALDESC:Veranstaltungen für Riedhofschule
REFRESH-INTERVAL;VALUE=DURATION:PT1H
X-Robots-Tag:noindex
X-PUBLISHED-TTL:PT1H
BEGIN:VTIMEZONE
TZID:Europe/Berlin
BEGIN:DAYLIGHT
TZOFFSETFROM:+0100
TZOFFSETTO:+0200
TZNAME:CEST
DTSTART:20230326T010000
END:DAYLIGHT
BEGIN:STANDARD
TZOFFSETFROM:+0200
TZOFFSETTO:+0100
TZNAME:CET
DTSTART:20231029T010000
END:STANDARD
END:VTIMEZONE
BEGIN:VEVENT
DTSTART;TZID=Europe/Berlin:20230203T080000
DTEND;TZID=Europe/Berlin:20230203T110000
DTSTAMP:20260421T120101
CREATED:20220926T142143Z
LAST-MODIFIED:20220926T142203Z
UID:2661-1675411200-1675422000@riedhofschule.de
SUMMARY:Zeugnisausgabe der Jahrgänge 3 und 4/ Klassenlehrerunterricht 1.-3. Stunde
DESCRIPTION:
URL:https://riedhofschule.de/termin/zeugnisausgabe-der-jahrgaenge-3-und-4-klassenlehrerunterricht-1-3-stunde/
END:VEVENT
BEGIN:VEVENT
DTSTART;TZID=Europe/Berlin:20230206T090000
DTEND;TZID=Europe/Berlin:20230206T170000
DTSTAMP:20260421T120101
CREATED:20220926T142307Z
LAST-MODIFIED:20220926T142307Z
UID:2663-1675674000-1675702800@riedhofschule.de
SUMMARY:Pädagogischer Tag _ Vom Lehren zum Begleiten und Coachen
DESCRIPTION:
URL:https://riedhofschule.de/termin/paedagogischer-tag-_-vom-lehren-zum-begleiten-und-coachen/
END:VEVENT
BEGIN:VEVENT
DTSTART;TZID=Europe/Berlin:20230210T140000
DTEND;TZID=Europe/Berlin:20230210T180000
DTSTAMP:20260421T120101
CREATED:20220926T142353Z
LAST-MODIFIED:20220926T142353Z
UID:2665-1676037600-1676052000@riedhofschule.de
SUMMARY:Elternsprechtag - Fokus auf Fachunterricht
DESCRIPTION:
URL:https://riedhofschule.de/termin/elternsprechtag-fokus-auf-fachunterricht/
END:VEVENT
BEGIN:VEVENT
DTSTART;TZID=Europe/Berlin:20230215T140000
DTEND;TZID=Europe/Berlin:20230215T160000
DTSTAMP:20260421T120101
CREATED:20220926T142428Z
LAST-MODIFIED:20220926T142428Z
UID:2667-1676469600-1676476800@riedhofschule.de
SUMMARY:Gesamtkonferenz oder DV
DESCRIPTION:
URL:https://riedhofschule.de/termin/gesamtkonferenz-oder-dv-3/
END:VEVENT
BEGIN:VEVENT
DTSTART;VALUE=DATE:20230220
DTEND;VALUE=DATE:20230221
DTSTAMP:20260421T120101
CREATED:20220926T142457Z
LAST-MODIFIED:20220926T142457Z
UID:2669-1676851200-1676937599@riedhofschule.de
SUMMARY:Rosenmontag- unterrichtsfrei !
DESCRIPTION:
URL:https://riedhofschule.de/termin/rosenmontag-unterrichtsfrei-3/
END:VEVENT
BEGIN:VEVENT
DTSTART;TZID=Europe/Berlin:20230221T080000
DTEND;TZID=Europe/Berlin:20230221T130000
DTSTAMP:20260421T120101
CREATED:20220926T142535Z
LAST-MODIFIED:20220926T142535Z
UID:2671-1676966400-1676984400@riedhofschule.de
SUMMARY:Faschingsfeiern in den Klassen
DESCRIPTION:
URL:https://riedhofschule.de/termin/faschingsfeiern-in-den-klassen-2/
END:VEVENT
BEGIN:VEVENT
DTSTART;TZID=Europe/Berlin:20230223T090000
DTEND;TZID=Europe/Berlin:20230223T093000
DTSTAMP:20260421T120101
CREATED:20230212T131534Z
LAST-MODIFIED:20230212T131534Z
UID:3095-1677142800-1677144600@riedhofschule.de
SUMMARY:Riedhofparlament 2.Stunde
DESCRIPTION:
URL:https://riedhofschule.de/termin/riedhofparlament-2-stunde/
END:VEVENT
BEGIN:VEVENT
DTSTART;TZID=Europe/Berlin:20230227T080000
DTEND;TZID=Europe/Berlin:20230227T130000
DTSTAMP:20260421T120101
CREATED:20220926T142614Z
LAST-MODIFIED:20220926T142614Z
UID:2673-1677484800-1677502800@riedhofschule.de
SUMMARY:Dschungeltag- Jahrgang 3&4
DESCRIPTION:
URL:https://riedhofschule.de/termin/dschungeltag-jahrgang-34/
END:VEVENT
BEGIN:VEVENT
DTSTART;TZID=Europe/Berlin:20230228T080000
DTEND;TZID=Europe/Berlin:20230228T130000
DTSTAMP:20260421T120101
CREATED:20220926T142644Z
LAST-MODIFIED:20220926T142644Z
UID:2675-1677571200-1677589200@riedhofschule.de
SUMMARY:Dschungeltag- VK\, Jahrgang 1&2
DESCRIPTION:
URL:https://riedhofschule.de/termin/dschungeltag-vk-jahrgang-12/
END:VEVENT
END:VCALENDAR